BEGIN:VCALENDAR
VERSION:2.0
PRODID:-//NATFRMLDN - ECPv6.15.20//NONSGML v1.0//EN
CALSCALE:GREGORIAN
METHOD:PUBLISH
X-WR-CALNAME:NATFRMLDN
X-ORIGINAL-URL:http://www.natfrmldn.com
X-WR-CALDESC:Events for NATFRMLDN
REFRESH-INTERVAL;VALUE=DURATION:PT1H
X-Robots-Tag:noindex
X-PUBLISHED-TTL:PT1H
BEGIN:VTIMEZONE
TZID:UTC
BEGIN:STANDARD
TZOFFSETFROM:+0000
TZOFFSETTO:+0000
TZNAME:UTC
DTSTART:20210101T000000
END:STANDARD
END:VTIMEZONE
BEGIN:VEVENT
DTSTART;TZID=UTC:20230505T183000
DTEND;TZID=UTC:20230505T233000
DTSTAMP:20260423T170548
CREATED:20230124T081340Z
LAST-MODIFIED:20230124T081340Z
UID:312-1683311400-1683329400@www.natfrmldn.com
SUMMARY:DJ Set at Bal Viennois de Geneve
DESCRIPTION:
URL:http://www.natfrmldn.com/event/dj-set-at-bal-viennois-de-geneve/
LOCATION:Musée Ariana\, Avenue de la Paix 10\, Genève\, 1202\, Switzerland
ATTACH;FMTTYPE=image/jpeg:http://www.natfrmldn.com/wp-content/uploads/2023/01/Bal-Viennese-Geneve.jpeg
END:VEVENT
BEGIN:VEVENT
DTSTART;TZID=UTC:20230428T193000
DTEND;TZID=UTC:20230428T233000
DTSTAMP:20260423T170548
CREATED:20230313T151019Z
LAST-MODIFIED:20230313T151019Z
UID:323-1682710200-1682724600@www.natfrmldn.com
SUMMARY:DJ Set + Blind Test @ BE HERE
DESCRIPTION:
URL:http://www.natfrmldn.com/event/dj-set-blind-test-be-here-3/
LOCATION:Be Here\, 20 Rue du Bois de la Rose\, Ville-la-Grand\, 74100\, France
ATTACH;FMTTYPE=image/jpeg:http://www.natfrmldn.com/wp-content/uploads/2022/06/NATFRMLDN-AT-BE-HERE.jpg
END:VEVENT
BEGIN:VEVENT
DTSTART;TZID=UTC:20230407T193000
DTEND;TZID=UTC:20230407T233000
DTSTAMP:20260423T170548
CREATED:20230313T150813Z
LAST-MODIFIED:20230313T150856Z
UID:321-1680895800-1680910200@www.natfrmldn.com
SUMMARY:DJ Set + Karaoke @ BE HERE
DESCRIPTION:
URL:http://www.natfrmldn.com/event/dj-set-karaoke-be-here-2/
LOCATION:Be Here\, 20 Rue du Bois de la Rose\, Ville-la-Grand\, 74100\, France
ATTACH;FMTTYPE=image/jpeg:http://www.natfrmldn.com/wp-content/uploads/2022/06/NATFRMLDN-AT-BE-HERE.jpg
END:VEVENT
BEGIN:VEVENT
DTSTART;TZID=UTC:20230224T193000
DTEND;TZID=UTC:20230224T233000
DTSTAMP:20260423T170548
CREATED:20230124T081842Z
LAST-MODIFIED:20230124T081842Z
UID:316-1677267000-1677281400@www.natfrmldn.com
SUMMARY:DJ Set + Blind Test @ BE HERE
DESCRIPTION:
URL:http://www.natfrmldn.com/event/dj-set-blind-test-be-here-2/
LOCATION:Be Here\, 20 Rue du Bois de la Rose\, Ville-la-Grand\, 74100\, France
ATTACH;FMTTYPE=image/jpeg:http://www.natfrmldn.com/wp-content/uploads/2022/06/NATFRMLDN-AT-BE-HERE.jpg
END:VEVENT
BEGIN:VEVENT
DTSTART;TZID=UTC:20230219T200000
DTEND;TZID=UTC:20230219T233000
DTSTAMP:20260423T170548
CREATED:20230124T080243Z
LAST-MODIFIED:20230124T080243Z
UID:307-1676836800-1676849400@www.natfrmldn.com
SUMMARY:Festival Antigel with Evita Koné
DESCRIPTION:Opening act for Lady Blackbird!
URL:http://www.natfrmldn.com/event/festival-antigel-with-evita-kone/
LOCATION:Casino Theatre Geneva\, Rue de Carouge 42\, Genève\, 1205
ATTACH;FMTTYPE=image/jpeg:http://www.natfrmldn.com/wp-content/uploads/2023/01/Evita-Kone-2022.jpeg
END:VEVENT
BEGIN:VEVENT
DTSTART;TZID=UTC:20230127T193000
DTEND;TZID=UTC:20230127T233000
DTSTAMP:20260423T170548
CREATED:20230124T075242Z
LAST-MODIFIED:20230124T075242Z
UID:305-1674847800-1674862200@www.natfrmldn.com
SUMMARY:DJ Set + Karaoke @ Be Here
DESCRIPTION:
URL:http://www.natfrmldn.com/event/dj-set-karaoke-be-here/
LOCATION:Be Here\, 20 Rue du Bois de la Rose\, Ville-la-Grand\, 74100\, France
ATTACH;FMTTYPE=image/jpeg:http://www.natfrmldn.com/wp-content/uploads/2022/06/NATFRMLDN-AT-BE-HERE.jpg
END:VEVENT
BEGIN:VEVENT
DTSTART;TZID=UTC:20230113T193000
DTEND;TZID=UTC:20230113T233000
DTSTAMP:20260423T170548
CREATED:20230124T075112Z
LAST-MODIFIED:20230124T075112Z
UID:303-1673638200-1673652600@www.natfrmldn.com
SUMMARY:DJ Set + Blind Test @ BE HERE
DESCRIPTION:
URL:http://www.natfrmldn.com/event/dj-set-blind-test-be-here/
LOCATION:Be Here\, 20 Rue du Bois de la Rose\, Ville-la-Grand\, 74100\, France
ATTACH;FMTTYPE=image/jpeg:http://www.natfrmldn.com/wp-content/uploads/2022/06/NATFRMLDN-AT-BE-HERE.jpg
END:VEVENT
BEGIN:VEVENT
DTSTART;TZID=UTC:20221202T190000
DTEND;TZID=UTC:20221202T233000
DTSTAMP:20260423T170548
CREATED:20220621T095308Z
LAST-MODIFIED:20220621T095308Z
UID:278-1670007600-1670023800@www.natfrmldn.com
SUMMARY:DJ Set at BE HERE
DESCRIPTION:
URL:http://www.natfrmldn.com/event/dj-set-at-be-here-6/
LOCATION:Be Here\, 20 Rue du Bois de la Rose\, Ville-la-Grand\, 74100\, France
ATTACH;FMTTYPE=image/jpeg:http://www.natfrmldn.com/wp-content/uploads/2022/06/NATFRMLDN-AT-BE-HERE.jpg
END:VEVENT
BEGIN:VEVENT
DTSTART;TZID=UTC:20221118T190000
DTEND;TZID=UTC:20221118T233000
DTSTAMP:20260423T170548
CREATED:20220621T095139Z
LAST-MODIFIED:20220621T095139Z
UID:276-1668798000-1668814200@www.natfrmldn.com
SUMMARY:DJ Set at BE HERE
DESCRIPTION:
URL:http://www.natfrmldn.com/event/dj-set-at-be-here-5/
LOCATION:Be Here\, 20 Rue du Bois de la Rose\, Ville-la-Grand\, 74100\, France
ATTACH;FMTTYPE=image/jpeg:http://www.natfrmldn.com/wp-content/uploads/2022/06/NATFRMLDN-AT-BE-HERE.jpg
END:VEVENT
BEGIN:VEVENT
DTSTART;TZID=UTC:20221104T190000
DTEND;TZID=UTC:20221104T233000
DTSTAMP:20260423T170548
CREATED:20220621T095019Z
LAST-MODIFIED:20220621T095019Z
UID:274-1667588400-1667604600@www.natfrmldn.com
SUMMARY:DJ Set at BE HERE
DESCRIPTION:
URL:http://www.natfrmldn.com/event/dj-set-at-be-here-4/
LOCATION:Be Here\, 20 Rue du Bois de la Rose\, Ville-la-Grand\, 74100\, France
ATTACH;FMTTYPE=image/jpeg:http://www.natfrmldn.com/wp-content/uploads/2022/06/NATFRMLDN-AT-BE-HERE.jpg
END:VEVENT
BEGIN:VEVENT
DTSTART;TZID=UTC:20221008T220000
DTEND;TZID=UTC:20221009T020000
DTSTAMP:20260423T170548
CREATED:20220822T102702Z
LAST-MODIFIED:20221007T123626Z
UID:290-1665266400-1665280800@www.natfrmldn.com
SUMMARY:[CANCELLED] DJ Set @ Festival Black Helvetia
DESCRIPTION:
URL:http://www.natfrmldn.com/event/dj-set-festival-black-helvetia/
LOCATION:INOX Bar Club\, Av. Léopold-Robert 73\, La Chaux-de-Fonds\, 2300\, Switzerland
ATTACH;FMTTYPE=image/jpeg:http://www.natfrmldn.com/wp-content/uploads/2022/08/BlackHelvetia_SW-X_low-scaled-1.jpeg
END:VEVENT
BEGIN:VEVENT
DTSTART;TZID=UTC:20221007T190000
DTEND;TZID=UTC:20221007T233000
DTSTAMP:20260423T170548
CREATED:20220621T094700Z
LAST-MODIFIED:20220621T094700Z
UID:270-1665169200-1665185400@www.natfrmldn.com
SUMMARY:DJ Set at BE HERE
DESCRIPTION:
URL:http://www.natfrmldn.com/event/dj-set-at-be-here-2/
LOCATION:Be Here\, 20 Rue du Bois de la Rose\, Ville-la-Grand\, 74100\, France
ATTACH;FMTTYPE=image/jpeg:http://www.natfrmldn.com/wp-content/uploads/2022/06/NATFRMLDN-AT-BE-HERE.jpg
END:VEVENT
BEGIN:VEVENT
DTSTART;TZID=UTC:20220923T190000
DTEND;TZID=UTC:20220923T233000
DTSTAMP:20260423T170548
CREATED:20220822T101723Z
LAST-MODIFIED:20220822T101723Z
UID:288-1663959600-1663975800@www.natfrmldn.com
SUMMARY:DJ Set @ BE HERE
DESCRIPTION:
URL:http://www.natfrmldn.com/event/dj-set-be-here/
LOCATION:Be Here\, 20 Rue du Bois de la Rose\, Ville-la-Grand\, 74100\, France
ATTACH;FMTTYPE=image/jpeg:http://www.natfrmldn.com/wp-content/uploads/2022/06/NATFRMLDN-AT-BE-HERE.jpg
END:VEVENT
BEGIN:VEVENT
DTSTART;TZID=UTC:20220916T210000
DTEND;TZID=UTC:20220917T030000
DTSTAMP:20260423T170548
CREATED:20220822T101507Z
LAST-MODIFIED:20220822T101507Z
UID:285-1663362000-1663383600@www.natfrmldn.com
SUMMARY:DJ Set at Dachstock - Bern
DESCRIPTION:Support slot for FlexFab & Ziller Bas and Ozadya.
URL:http://www.natfrmldn.com/event/dj-set-at-dachstock-bern/
LOCATION:Dachstock\, Neubrückstrasse 8\, Bern\, 3012\, Switzerland
ATTACH;FMTTYPE=image/jpeg:http://www.natfrmldn.com/wp-content/uploads/2022/05/IMG_0539-scaled.jpg
END:VEVENT
BEGIN:VEVENT
DTSTART;TZID=UTC:20220910T190000
DTEND;TZID=UTC:20220910T233000
DTSTAMP:20260423T170548
CREATED:20220822T100609Z
LAST-MODIFIED:20220822T100609Z
UID:283-1662836400-1662852600@www.natfrmldn.com
SUMMARY:DJ Set @ Private Party
DESCRIPTION:
URL:http://www.natfrmldn.com/event/dj-set-private-party/
ATTACH;FMTTYPE=image/jpeg:http://www.natfrmldn.com/wp-content/uploads/2022/05/IMG_0539-scaled.jpg
END:VEVENT
BEGIN:VEVENT
DTSTART;TZID=UTC:20220903T190000
DTEND;TZID=UTC:20220903T233000
DTSTAMP:20260423T170548
CREATED:20220822T100119Z
LAST-MODIFIED:20220822T100119Z
UID:281-1662231600-1662247800@www.natfrmldn.com
SUMMARY:DJ Set at BE HERE
DESCRIPTION:
URL:http://www.natfrmldn.com/event/dj-set-at-be-here/
LOCATION:Be Here\, 20 Rue du Bois de la Rose\, Ville-la-Grand\, 74100\, France
ATTACH;FMTTYPE=image/jpeg:http://www.natfrmldn.com/wp-content/uploads/2022/06/NATFRMLDN-AT-BE-HERE.jpg
END:VEVENT
BEGIN:VEVENT
DTSTART;TZID=UTC:20220730T190000
DTEND;TZID=UTC:20220730T233000
DTSTAMP:20260423T170548
CREATED:20220621T094140Z
LAST-MODIFIED:20220621T094140Z
UID:266-1659207600-1659223800@www.natfrmldn.com
SUMMARY:Blind Test / Karaoke + DJ Set at BE HERE
DESCRIPTION:
URL:http://www.natfrmldn.com/event/blind-test-karaoke-dj-set-at-be-here-2/
LOCATION:Be Here\, 20 Rue du Bois de la Rose\, Ville-la-Grand\, 74100\, France
ATTACH;FMTTYPE=image/jpeg:http://www.natfrmldn.com/wp-content/uploads/2022/06/NATFRMLDN-AT-BE-HERE.jpg
END:VEVENT
BEGIN:VEVENT
DTSTART;TZID=UTC:20220701T190000
DTEND;TZID=UTC:20220701T233000
DTSTAMP:20260423T170548
CREATED:20220621T093826Z
LAST-MODIFIED:20220621T094306Z
UID:264-1656702000-1656718200@www.natfrmldn.com
SUMMARY:Blind Test / Karaoke + DJ Set at BE HERE
DESCRIPTION:
URL:http://www.natfrmldn.com/event/blind-test-karaoke-dj-set-at-be-here/
LOCATION:Be Here\, 20 Rue du Bois de la Rose\, Ville-la-Grand\, 74100\, France
ATTACH;FMTTYPE=image/jpeg:http://www.natfrmldn.com/wp-content/uploads/2022/06/NATFRMLDN-AT-BE-HERE.jpg
END:VEVENT
BEGIN:VEVENT
DTSTART;TZID=UTC:20220617T190000
DTEND;TZID=UTC:20220617T233000
DTSTAMP:20260423T170548
CREATED:20220621T093252Z
LAST-MODIFIED:20220621T093252Z
UID:260-1655492400-1655508600@www.natfrmldn.com
SUMMARY:Blind Test & DJ Set at BE HERE
DESCRIPTION:
URL:http://www.natfrmldn.com/event/blind-test-dj-set-at-be-here/
LOCATION:Be Here\, 20 Rue du Bois de la Rose\, Ville-la-Grand\, 74100\, France
ATTACH;FMTTYPE=image/jpeg:http://www.natfrmldn.com/wp-content/uploads/2022/06/NATFRMLDN-AT-BE-HERE.jpg
END:VEVENT
BEGIN:VEVENT
DTSTART;TZID=UTC:20220604T190000
DTEND;TZID=UTC:20220605T020000
DTSTAMP:20260423T170548
CREATED:20220401T130046Z
LAST-MODIFIED:20220401T130046Z
UID:230-1654369200-1654394400@www.natfrmldn.com
SUMMARY:Evita Koné Soundsystem - DJ Support
DESCRIPTION:
URL:http://www.natfrmldn.com/event/evita-kone-soundsystem-dj-support-2/
LOCATION:SAE Alumni Festival
END:VEVENT
BEGIN:VEVENT
DTSTART;TZID=UTC:20220429T190000
DTEND;TZID=UTC:20220429T233000
DTSTAMP:20260423T170548
CREATED:20220401T125644Z
LAST-MODIFIED:20220401T125644Z
UID:226-1651258800-1651275000@www.natfrmldn.com
SUMMARY:Evita Koné Soundsystem - DJ Support
DESCRIPTION:
URL:http://www.natfrmldn.com/event/evita-kone-soundsystem-dj-support/
LOCATION:Baleinev Festival\, Yverdon-les-Bains\, Switzerland
END:VEVENT
BEGIN:VEVENT
DTSTART;TZID=UTC:20220402T190000
DTEND;TZID=UTC:20220402T233000
DTSTAMP:20260423T170548
CREATED:20220401T125124Z
LAST-MODIFIED:20220401T125124Z
UID:223-1648926000-1648942200@www.natfrmldn.com
SUMMARY:Ukraine Fundraiser - DJ Set
DESCRIPTION:
URL:http://www.natfrmldn.com/event/ukraine-fundraiser-dj-set-2/
LOCATION:Salle Communal de Lucinges\, 74380\, France
END:VEVENT
BEGIN:VEVENT
DTSTART;TZID=UTC:20220319T190000
DTEND;TZID=UTC:20220319T233000
DTSTAMP:20260423T170548
CREATED:20220401T124812Z
LAST-MODIFIED:20220401T124812Z
UID:219-1647716400-1647732600@www.natfrmldn.com
SUMMARY:Ukraine Fundraiser - DJ Set
DESCRIPTION:
URL:http://www.natfrmldn.com/event/ukraine-fundraiser-dj-set/
LOCATION:Hotel Calvy
END:VEVENT
END:VCALENDAR